BEGIN:VCALENDAR
VERSION:2.0
PRODID:-//O&#039;Donoghues | Pub &amp; Local Eatery - ECPv6.8.3//NONSGML v1.0//EN
CALSCALE:GREGORIAN
METHOD:PUBLISH
X-ORIGINAL-URL:https://www.odonoghues.com.au
X-WR-CALDESC:Events for O&#039;Donoghues | Pub &amp; Local Eatery
REFRESH-INTERVAL;VALUE=DURATION:PT1H
X-Robots-Tag:noindex
X-PUBLISHED-TTL:PT1H
BEGIN:VTIMEZONE
TZID:Australia/Sydney
BEGIN:STANDARD
TZOFFSETFROM:+1100
TZOFFSETTO:+1000
TZNAME:AEST
DTSTART:20250405T160000
END:STANDARD
BEGIN:DAYLIGHT
TZOFFSETFROM:+1000
TZOFFSETTO:+1100
TZNAME:AEDT
DTSTART:20251004T160000
END:DAYLIGHT
BEGIN:STANDARD
TZOFFSETFROM:+1100
TZOFFSETTO:+1000
TZNAME:AEST
DTSTART:20260404T160000
END:STANDARD
BEGIN:DAYLIGHT
TZOFFSETFROM:+1000
TZOFFSETTO:+1100
TZNAME:AEDT
DTSTART:20261003T160000
END:DAYLIGHT
END:VTIMEZONE
BEGIN:VEVENT
DTSTART;TZID=Australia/Sydney:20260201T120000
DTEND;TZID=Australia/Sydney:20260201T170000
DTSTAMP:20260423T195811
CREATED:20260107T042513Z
LAST-MODIFIED:20260203T222631Z
UID:10026477-1769947200-1769965200@www.odonoghues.com.au
SUMMARY:UFC 325
DESCRIPTION:Australia’s own Alexander Volkanovski returns to the Octagon as he defends the featherweight title against Diego Lopes in a massive rematch at UFC 325. \nAfter an explosive first encounter\, the Aussie champion is back with everything on the line\, looking to cement his legacy on the world stage. Expect elite-level skill\, relentless pressure\, and championship drama from start to finish.
URL:https://www.odonoghues.com.au/event/ufc-325/2026-02-01/2/
ATTACH;FMTTYPE=image/png:https://www.odonoghues.com.au/wp-content/uploads/2026/01/Untitled-design-16.png
END:VEVENT
BEGIN:VEVENT
DTSTART;TZID=Australia/Sydney:20260201T080000
DTEND;TZID=Australia/Sydney:20260201T170000
DTSTAMP:20260423T195811
CREATED:20260107T042513Z
LAST-MODIFIED:20260203T222631Z
UID:10031967-1769932800-1769965200@www.odonoghues.com.au
SUMMARY:UFC 325
DESCRIPTION:Australia’s own Alexander Volkanovski returns to the Octagon as he defends the featherweight title against Diego Lopes in a massive rematch at UFC 325. \nAfter an explosive first encounter\, the Aussie champion is back with everything on the line\, looking to cement his legacy on the world stage. Expect elite-level skill\, relentless pressure\, and championship drama from start to finish.
URL:https://www.odonoghues.com.au/event/ufc-325/2026-02-01/1/
ATTACH;FMTTYPE=image/png:https://www.odonoghues.com.au/wp-content/uploads/2026/01/Untitled-design-16.png
END:VEVENT
BEGIN:VEVENT
DTSTART;TZID=Australia/Sydney:20260128T183000
DTEND;TZID=Australia/Sydney:20260128T210000
DTSTAMP:20260423T195811
CREATED:20251013T023610Z
LAST-MODIFIED:20260113T040436Z
UID:10030095-1769625000-1769634000@www.odonoghues.com.au
SUMMARY:Friends Themed Trivia
DESCRIPTION:Could this be any more fun? Gather your FRIENDS and join us for a night dedicated to the iconic moments\, quotes and characters. From Central Perk to Monica’s apartment\, test your knowledge and compete for prizes. \nFree to play\, plenty of laughs guaranteed.Kicks off Wednesday 28th January from 6:30pm.Bookings recommended. \n 
URL:https://www.odonoghues.com.au/event/disney-trivia/2026-01-28/
CATEGORIES:What's On
ATTACH;FMTTYPE=image/jpeg:https://www.odonoghues.com.au/wp-content/uploads/2025/10/1020_74061_74358_FriendsTrivia_1920x1080.jpg
END:VEVENT
BEGIN:VEVENT
DTSTART;TZID=Australia/Sydney:20260125T120000
DTEND;TZID=Australia/Sydney:20260125T170000
DTSTAMP:20260423T195811
CREATED:20251124T042345Z
LAST-MODIFIED:20260107T042049Z
UID:10026476-1769342400-1769360400@www.odonoghues.com.au
SUMMARY:UFC 324
DESCRIPTION:UFC 324 delivers a blockbuster fight card with massive title implications\, and we’re showing it live at the venue. \nThe interim lightweight championship is on the line as Justin Gaethje takes on the always-entertaining Paddy Pimblett in a high-stakes main event guaranteed to bring fireworks.
URL:https://www.odonoghues.com.au/event/ufc-323/2026-01-25/
CATEGORIES:What's On
ATTACH;FMTTYPE=image/png:https://www.odonoghues.com.au/wp-content/uploads/2025/11/Untitled-design-15.png
END:VEVENT
BEGIN:VEVENT
DTSTART;TZID=Australia/Sydney:20251231T160000
DTEND;TZID=Australia/Sydney:20260101T010000
DTSTAMP:20260423T195811
CREATED:20251215T041732Z
LAST-MODIFIED:20251215T041732Z
UID:10026469-1767196800-1767229200@www.odonoghues.com.au
SUMMARY:NYE at ODs
DESCRIPTION:Bring on 2026! \nWelcome in the new year with us here at ODs! \nTo celebrate what a great year it has been\, we will be having live music and DJ’s from 4Pm. Bring friends and family down for a night filled with great food and vibes!
URL:https://www.odonoghues.com.au/event/nye-at-ods-2/2025-12-31/
CATEGORIES:What's On
ATTACH;FMTTYPE=image/jpeg:https://www.odonoghues.com.au/wp-content/uploads/2025/12/1020_73639_73936_NYE_WebNew.jpg
END:VEVENT
BEGIN:VEVENT
DTSTART;TZID=Australia/Sydney:20251220T120000
DTEND;TZID=Australia/Sydney:20251220T160000
DTSTAMP:20260423T195811
CREATED:20251209T032655Z
LAST-MODIFIED:20251209T032655Z
UID:10026467-1766232000-1766246400@www.odonoghues.com.au
SUMMARY:JAKE PAUL vs JOSHUA
DESCRIPTION:Jake Paul is set to meet former unified heavyweight champion of the world Anthony Joshua in the ring for an enticing encounter. The fight is scheduled for 8 blockbuster rounds so come down to ODs and enjoy the atmosphere!
URL:https://www.odonoghues.com.au/event/jake-paul-vs-joshua/2025-12-20/
CATEGORIES:What's On
ATTACH;FMTTYPE=application/pdf:https://www.odonoghues.com.au/wp-content/uploads/2025/12/Untitled-design-1-1.pdf
END:VEVENT
BEGIN:VEVENT
DTSTART;TZID=Australia/Sydney:20251219T160000
DTEND;TZID=Australia/Sydney:20251219T210000
DTSTAMP:20260423T195811
CREATED:20251121T112107Z
LAST-MODIFIED:20251121T112107Z
UID:10026200-1766160000-1766178000@www.odonoghues.com.au
SUMMARY:OD's Local Christmas Party
DESCRIPTION:Come celebrate the Christmas season with us from 4PM
URL:https://www.odonoghues.com.au/event/ods-local-christmas-party/2025-12-19/
CATEGORIES:What's On
ATTACH;FMTTYPE=image/jpeg:https://www.odonoghues.com.au/wp-content/uploads/2025/11/1020_73484_73781_LocalsCristmasParty_WEB.jpg
END:VEVENT
BEGIN:VEVENT
DTSTART;TZID=Australia/Sydney:20251218T180000
DTEND;TZID=Australia/Sydney:20251218T200000
DTSTAMP:20260423T195811
CREATED:20251121T113509Z
LAST-MODIFIED:20251121T113509Z
UID:10026201-1766080800-1766088000@www.odonoghues.com.au
SUMMARY:MEGA HAM RAFFLE
DESCRIPTION:Christmas is coming… and so is our Mega Ham Raffle! \nJoin us at ODs on Thursday\, 18th December for your chance to take home one of our premium Christmas hams—perfect for your festive feast. \n Tickets on sale from 5Pm Draws begin from 6pm \nBring your mates\, enjoy the atmosphere\, and get into the holiday spirit at your favourite pub!
URL:https://www.odonoghues.com.au/event/mega-ham-raffle/2025-12-18/
CATEGORIES:What's On
ATTACH;FMTTYPE=image/jpeg:https://www.odonoghues.com.au/wp-content/uploads/2025/11/1020_73429_73726_ChristmasHamRaffles_WEBNEW.jpg
END:VEVENT
BEGIN:VEVENT
DTSTART;TZID=Australia/Sydney:20251217T170000
DTEND;TZID=Australia/Sydney:20251217T210000
DTSTAMP:20260423T195811
CREATED:20251202T064351Z
LAST-MODIFIED:20251202T064351Z
UID:10026465-1765990800-1766005200@www.odonoghues.com.au
SUMMARY:Tszyu vs Velazquez
DESCRIPTION:Get ready for an explosive night of boxing as Tim Tszyu takes on the undefeated Anthony Velazquez in a must-see showdown.
URL:https://www.odonoghues.com.au/event/tszyu-vs-velazquez/2025-12-17/
CATEGORIES:What's On
ATTACH;FMTTYPE=image/jpeg:https://www.odonoghues.com.au/wp-content/uploads/2025/12/Tim-Tszyu-v-Anthony-Velazquez_Venue_1920x1080.jpg
END:VEVENT
BEGIN:VEVENT
DTSTART;TZID=Australia/Sydney:20251216T183000
DTEND;TZID=Australia/Sydney:20251216T210000
DTSTAMP:20260423T195811
CREATED:20251125T020138Z
LAST-MODIFIED:20251125T020138Z
UID:10026203-1765909800-1765918800@www.odonoghues.com.au
SUMMARY:Christmas Trivia
DESCRIPTION:Join us at O’Donoghues on Tuesday December 16 for our special Christmas Trivia Night. \nStarts from 6:30pm and is free to play. \nCome down and test your brain power\, it hits different at O’Donoghues!
URL:https://www.odonoghues.com.au/event/christmas-trivia/2025-12-16/
CATEGORIES:What's On
ATTACH;FMTTYPE=image/jpeg:https://www.odonoghues.com.au/wp-content/uploads/2025/11/1020_73044_73341_ChristmasTrivia2_Till.jpg
END:VEVENT
BEGIN:VEVENT
DTSTART;TZID=Australia/Sydney:20251214T160000
DTEND;TZID=Australia/Sydney:20251214T210000
DTSTAMP:20260423T195811
CREATED:20251121T103643Z
LAST-MODIFIED:20251121T103643Z
UID:10026199-1765728000-1765746000@www.odonoghues.com.au
SUMMARY:ODs Community Christmas Party
DESCRIPTION:Join us at ODs for a family fun day filled with festive fun including a special appearance from Santa himself! \n 
URL:https://www.odonoghues.com.au/event/ods-community-christmas-party/2025-12-14/
CATEGORIES:What's On
ATTACH;FMTTYPE=image/jpeg:https://www.odonoghues.com.au/wp-content/uploads/2025/11/1020_73487_73784_CommunityChristmasParty_WEBNEW.jpg
END:VEVENT
BEGIN:VEVENT
DTSTART;TZID=Australia/Sydney:20251128T200000
DTEND;TZID=Australia/Sydney:20251129T020000
DTSTAMP:20260423T195811
CREATED:20250916T025731Z
LAST-MODIFIED:20250916T025731Z
UID:10023744-1764360000-1764381600@www.odonoghues.com.au
SUMMARY:CXNTRY
DESCRIPTION:CXNTRY is back at ODs and it’s bigger and better than ever before! \nGrab your spot in the dance line for the ultimate line dancing country clubbing experience! \nNever line danced before? No stress\, we’ll teach you! \nWe’ve got: \n👢- Country Music DJ \n🎤 – Live Music Performances \n💃- Line Dancing (Including free lessons for those wanting to learn) \n🐂 – Bull ride included in ticket price! \n🍹- Drink Specials! \nCancel all your plans and we’ll see you on Friday November 28th! \nBuy Tickets
URL:https://www.odonoghues.com.au/event/cxntry-2/2025-11-28/
CATEGORIES:What's On
ATTACH;FMTTYPE=image/png:https://www.odonoghues.com.au/wp-content/uploads/2025/09/CXNTRYODS1920x1080.png-1.png
END:VEVENT
BEGIN:VEVENT
DTSTART;VALUE=DATE:20251116
DTEND;VALUE=DATE:20251117
DTSTAMP:20260423T195811
CREATED:20250929T232647Z
LAST-MODIFIED:20251109T215917Z
UID:10025937-1763251200-1763337599@www.odonoghues.com.au
SUMMARY:UFC 322
DESCRIPTION:Two massive title fights land Sunday\, 16 November\, and we’re showing every moment live and loud. Catch all the action as UFC 322 takes over Madison Square Garden — including Shevchenko vs Zhang and the huge Della Maddalena vs Makhachev showdown.
URL:https://www.odonoghues.com.au/event/mega-sports-day/2025-11-16/1/
CATEGORIES:What's On
ATTACH;FMTTYPE=image/jpeg:https://www.odonoghues.com.au/wp-content/uploads/2025/09/UFC_322_Venue_1920x1080.jpg
END:VEVENT
BEGIN:VEVENT
DTSTART;VALUE=DATE:20251107
DTEND;VALUE=DATE:20251108
DTSTAMP:20260423T195811
CREATED:20250725T035153Z
LAST-MODIFIED:20251107T235404Z
UID:10024108-1762473600-1762559999@www.odonoghues.com.au
SUMMARY:Home Of The UFC
DESCRIPTION:Make OD’s your home for the UFC! \nFrom blockbuster title bouts to stacked cards\, catch all the action on our big screens with a crowd that loves it just as much as you do. \nRound up the mates\, grab a cold one\, and settle in for the ultimate UFC experience at OD’s.
URL:https://www.odonoghues.com.au/event/ufc-319/2025-11-07/
CATEGORIES:What's On
ATTACH;FMTTYPE=image/png:https://www.odonoghues.com.au/wp-content/uploads/2025/07/699_73396_73693_HomeOfUFC_WebNew.png
END:VEVENT
BEGIN:VEVENT
DTSTART;TZID=Australia/Sydney:20251104T150000
DTEND;TZID=Australia/Sydney:20251104T180000
DTSTAMP:20260423T195811
CREATED:20250909T093535Z
LAST-MODIFIED:20250909T093535Z
UID:10023691-1762268400-1762279200@www.odonoghues.com.au
SUMMARY:MELBOURNE CUP
DESCRIPTION:Tuesday November 4th…The race that will stop the nation! \nCome on down to the O’Donoghues Pub and enjoy the event LIVE & LOUD! \nWe will be showcasing live music post-race as well as our usual $16 pub classics to keep the celebrations going strong without breaking the bank.
URL:https://www.odonoghues.com.au/event/melbourne-cup/2025-11-04/
CATEGORIES:What's On
ATTACH;FMTTYPE=image/jpeg:https://www.odonoghues.com.au/wp-content/uploads/2025/09/1020_72809_WEBSITETILENEW_73106_MelbCup_Web.jpg
END:VEVENT
BEGIN:VEVENT
DTSTART;TZID=Australia/Sydney:20251031T210000
DTEND;TZID=Australia/Sydney:20251101T010000
DTSTAMP:20260423T195811
CREATED:20250826T003409Z
LAST-MODIFIED:20250826T004135Z
UID:10023690-1761944400-1761958800@www.odonoghues.com.au
SUMMARY:HALLOWEMO 2025
DESCRIPTION:Get ready to party hard this Halloween as HALLOWEMO is coming to ODs! \nThere will be many fun and exciting things happening around the venue on the night such as: \nEmo Party \nTarot Reading \nScare Actors \nand much more… \nSet your calendars for Friday October 31st from 9pm as you do not want to miss this! \nTICKET SALE IS NOW LIVE! \nBuy Now!
URL:https://www.odonoghues.com.au/event/hallowemo-2025/2025-10-31/
CATEGORIES:What's On
ATTACH;FMTTYPE=image/jpeg:https://www.odonoghues.com.au/wp-content/uploads/2025/08/1020_72641_PLASMALANDSCAPE_72938_Hallowemo_1920x1080.jpg
END:VEVENT
BEGIN:VEVENT
DTSTART;TZID=Australia/Sydney:20251031T080000
DTEND;TZID=Australia/Sydney:20251220T223000
DTSTAMP:20260423T195811
CREATED:20250911T022944Z
LAST-MODIFIED:20250911T024523Z
UID:10023742-1761897600-1766269800@www.odonoghues.com.au
SUMMARY:Celebrate Spring with Aperol Spritz
DESCRIPTION:Shout a Mate – Buy 2 Aperol Spritz\, get 1 refunded is our new promotion! \nHere’s how it works: \n\nSimply buy two Aperol Spritz\nScan the QR code and uploads their receipt\nRefund is sent direct to your digital wallet\n\nHurry on down to ODs\, this promotion ends October 31st.
URL:https://www.odonoghues.com.au/event/celebrate-spring-with-aperol-spritz/2025-10-31/
CATEGORIES:What's On
ATTACH;FMTTYPE=image/jpeg:https://www.odonoghues.com.au/wp-content/uploads/2025/09/Image.jpeg
END:VEVENT
BEGIN:VEVENT
DTSTART;TZID=Australia/Sydney:20251018T210000
DTEND;TZID=Australia/Sydney:20251019T000000
DTSTAMP:20260423T195811
CREATED:20251007T004552Z
LAST-MODIFIED:20251007T004552Z
UID:10023746-1760821200-1760832000@www.odonoghues.com.au
SUMMARY:Chisel Barnes Show
DESCRIPTION:LAST STAND CHISEL BARNES SHOW.\n\nCelebration 38 Years of the Freight Train Heart Album. Plus\, all the Big Cold Chisel and Jimmy Barnes Hits!\nCold Chisel songs have made their mark in Australian history as some of the best tunes to ever come out of Australian Pub Rock. The Best of the Best that Australia has to offer\, this is the Last Stand\, Chisel Barnes Show. A paramount performance\, that will make you look twice to check you are not listening to the real thing
URL:https://www.odonoghues.com.au/event/chisel-barnes-show/2025-10-18/
CATEGORIES:Gig,What's On
ATTACH;FMTTYPE=image/jpeg:https://www.odonoghues.com.au/wp-content/uploads/2025/10/519397084_1300225505445447_3417888330878216892_n-1.jpg
END:VEVENT
BEGIN:VEVENT
DTSTART;TZID=Australia/Sydney:20251010T210000
DTEND;TZID=Australia/Sydney:20251011T000000
DTSTAMP:20260423T195811
CREATED:20251008T034105Z
LAST-MODIFIED:20251008T034105Z
UID:10023747-1760130000-1760140800@www.odonoghues.com.au
SUMMARY:Duelling Pianos
DESCRIPTION:Two pianos. One stage. Endless energy. \nGet ready for a night of big singalong vibes and non-stop fun as two talented pianists go head-to-head in a musical showdown. \nFrom classic throwbacks to crowd favourites\, expect cheeky harmonies\, hilarious moments\, and a high-energy performance that keeps the good times rolling late into the night. \nBring your crew\, warm up those vocal cords\, and get ready for an unforgettable Friday Night at O’Donoghues. \nFree entry!
URL:https://www.odonoghues.com.au/event/duelling-pianos/2025-10-10/
CATEGORIES:Gig,What's On
ATTACH;FMTTYPE=image/jpeg:https://www.odonoghues.com.au/wp-content/uploads/2025/10/5.jpg
END:VEVENT
BEGIN:VEVENT
DTSTART;TZID=Australia/Sydney:20250914T110000
DTEND;TZID=Australia/Sydney:20250914T140000
DTSTAMP:20260423T195811
CREATED:20250912T012455Z
LAST-MODIFIED:20250912T012455Z
UID:10023743-1757847600-1757858400@www.odonoghues.com.au
SUMMARY:Canelo vs Crawford
DESCRIPTION:Get ready for one of the biggest fights of the year as Saul “Canelo” Álvarez takes on Terence Crawford in a blockbuster clash! \nCatch all the action live on Sunday 14 September from 11am right here at ODs. \nGrab your mates\, settle in with your favourite food and drinks\, and don’t miss a moment of this epic showdown on the big screens.
URL:https://www.odonoghues.com.au/event/canelo-vs-crawford/2025-09-14/
CATEGORIES:What's On
ATTACH;FMTTYPE=image/jpeg:https://www.odonoghues.com.au/wp-content/uploads/2025/09/Canelo-v-Crawford_Venue_1920x1080.jpg
END:VEVENT
BEGIN:VEVENT
DTSTART;TZID=Australia/Sydney:20250914T080000
DTEND;TZID=Australia/Sydney:20251024T005900
DTSTAMP:20260423T195811
CREATED:20250806T042933Z
LAST-MODIFIED:20250806T042933Z
UID:10023688-1757836800-1761267540@www.odonoghues.com.au
SUMMARY:WIN THE ULTIMATE NRL GRAND FINAL EXPERIENCE
DESCRIPTION:Get game-day ready with VB at ODs! \nBuy any 2 schooners or pints of VB in one transaction to enter for your chance to win 1 of 3 unforgettable 2025 NRL Grand Final experiences in Sydney. \nPrize includes: \n\n\n 2x Gold tickets to the 2025 NRL Grand Final \n\n\n Flights & hotel transfers (if needed) \n\n\n $250 spending money \n\n\n 2 nights’ accommodation \n\n\nAvailable for a limited time only! \nPromo ends 14 Sept 2025.Grab your mate\, grab a VB\, and get in the running!18+ only. Drink responsibly.
URL:https://www.odonoghues.com.au/event/win-the-ultimate-nrl-grand-final-experience/2025-09-14/
CATEGORIES:What's On
ATTACH;FMTTYPE=image/jpeg:https://www.odonoghues.com.au/wp-content/uploads/2025/08/1223_Redcape-VB-Win-Tickets-to-the-NRL-GF_MMPL1920x1080_FA.jpg
END:VEVENT
BEGIN:VEVENT
DTSTART;TZID=Australia/Sydney:20250907T113000
DTEND;TZID=Australia/Sydney:20250907T210000
DTSTAMP:20260423T195811
CREATED:20250801T045447Z
LAST-MODIFIED:20250827T025631Z
UID:10023648-1757244600-1757278800@www.odonoghues.com.au
SUMMARY:FATHERS DAY
DESCRIPTION:This Father’s Day\, treat Dad to a day he won’t forget with great food\, good company\, and a special gift just for him. \nBook a table for 6 or more and Dad will receive a complimentary bottle of Pepperjack wine to take home. It’s our way of saying thank you for everything he does. \nWhether it’s a family lunch or a hearty dinner\, we’ve got the perfect setting to celebrate. \nBookings are filling up quick so don’t miss out! \nBOOK NOW
URL:https://www.odonoghues.com.au/event/fathers-day/2025-09-07/
CATEGORIES:What's On
ATTACH;FMTTYPE=image/jpeg:https://www.odonoghues.com.au/wp-content/uploads/2025/08/1020_72425_PLASMALANDSCAPE_72722_FathersDay_1920x1080.jpg
END:VEVENT
BEGIN:VEVENT
DTSTART;TZID=Australia/Sydney:20250829T214500
DTEND;TZID=Australia/Sydney:20250830T004500
DTSTAMP:20260423T195811
CREATED:20250715T034950Z
LAST-MODIFIED:20250806T041757Z
UID:10023644-1756503900-1756514700@www.odonoghues.com.au
SUMMARY:EBONY & IVORY
DESCRIPTION:EBONY & IVORY is coming to ODs! \nLive on Friday 29th August straight after the footy. \nA fresh fusion of pop\, RNB\, funk & classics!
URL:https://www.odonoghues.com.au/event/ebony-ivory/2025-08-29/
CATEGORIES:Gig,What's On
ATTACH;FMTTYPE=image/png:https://www.odonoghues.com.au/wp-content/uploads/2025/07/Website-ebony.png
END:VEVENT
BEGIN:VEVENT
DTSTART;TZID=Australia/Sydney:20250820T190000
DTEND;TZID=Australia/Sydney:20250820T220000
DTSTAMP:20260423T195811
CREATED:20250811T064811Z
LAST-MODIFIED:20250811T064811Z
UID:10023689-1755716400-1755727200@www.odonoghues.com.au
SUMMARY:TSZYU vs ISMAILI
DESCRIPTION:Come down to ODs as Nikita Tszyu is set to take on Lulzim Ismaili. \nEnjoy our $16 pub classics while soaking in the atmosphere. \nWatch it live and loud on Wednesday August 20 from 7pm.
URL:https://www.odonoghues.com.au/event/tszyu-vs-ismaili/2025-08-20/
CATEGORIES:What's On
ATTACH;FMTTYPE=image/jpeg:https://www.odonoghues.com.au/wp-content/uploads/2025/08/Nikita-Tszyu-v-Lulzim-Ismaili_Venue_1920x1080.jpg
END:VEVENT
BEGIN:VEVENT
DTSTART;TZID=Australia/Sydney:20250815T214500
DTEND;TZID=Australia/Sydney:20250816T004500
DTSTAMP:20260423T195811
CREATED:20250715T034534Z
LAST-MODIFIED:20250806T005642Z
UID:10023643-1755294300-1755305100@www.odonoghues.com.au
SUMMARY:INXS KICK TRIBUTE
DESCRIPTION:INXS KICK TRIBUTE is coming to ODs! \nFriday 15th of August straight after the footy. \nThe most authentic tribute to INXS! \n  \n 
URL:https://www.odonoghues.com.au/event/inxs-kick-tribute/2025-08-15/
CATEGORIES:Gig,What's On
ATTACH;FMTTYPE=image/png:https://www.odonoghues.com.au/wp-content/uploads/2025/07/website-inxs.png
END:VEVENT
BEGIN:VEVENT
DTSTART;TZID=Australia/Sydney:20250801T214500
DTEND;TZID=Australia/Sydney:20250802T004500
DTSTAMP:20260423T195811
CREATED:20250715T032034Z
LAST-MODIFIED:20250715T032050Z
UID:10023642-1754084700-1754095500@www.odonoghues.com.au
SUMMARY:JELLYBEAN JAM
DESCRIPTION:Jellybean Jam is coming to ODs! \nLive on Friday 1st of August from 9:45pm \nDisco to retro\, funk to rock\, pop to dance!
URL:https://www.odonoghues.com.au/event/jellybean-jam/2025-08-01/
CATEGORIES:Gig,What's On
ATTACH;FMTTYPE=image/png:https://www.odonoghues.com.au/wp-content/uploads/2025/07/Jelly-Bean.png
END:VEVENT
BEGIN:VEVENT
DTSTART;TZID=Australia/Sydney:20250725T214500
DTEND;TZID=Australia/Sydney:20250726T004500
DTSTAMP:20260423T195811
CREATED:20250715T015617Z
LAST-MODIFIED:20250715T015633Z
UID:10023630-1753479900-1753490700@www.odonoghues.com.au
SUMMARY:SIMPLY WEST
DESCRIPTION:Simply West Band takes the stage at ODs on Friday the 25th July from 9:45pm 12:45am. \nEnjoy a fusion of Country\, Rock & Soul all in one epic night! \n 
URL:https://www.odonoghues.com.au/event/simply-west/2025-07-25/
CATEGORIES:Gig,What's On
ATTACH;FMTTYPE=image/png:https://www.odonoghues.com.au/wp-content/uploads/2025/07/SIMPLY-WEST-1.png
END:VEVENT
BEGIN:VEVENT
DTSTART;TZID=Australia/Sydney:20250720T100000
DTEND;TZID=Australia/Sydney:20250720T150000
DTSTAMP:20260423T195811
CREATED:20250715T011856Z
LAST-MODIFIED:20250715T025601Z
UID:10023628-1753005600-1753023600@www.odonoghues.com.au
SUMMARY:SUNDAY SHOWDOWN
DESCRIPTION:Sunday Showdown here at ODs! \nIt’s Time! For 3 massive main events all happening here at The O’Donoghues Pub. \nStarting off with boxing main cards from 10am: \nTSZYU vs FUNDORA 2 for the WBC Super Welterweight World Title \n& \nPACQUIAO vs BARRIOS for the WBC Welterweight World Title \nThen from 12pm UFC 318 main cards: \nMAX HOLLOWAY vs DUSTIN POIRIER for the BMF Title. \nWatch it LIVE & LOUD here at ODs!
URL:https://www.odonoghues.com.au/event/sunday-showdown/2025-07-20/
CATEGORIES:What's On
ATTACH;FMTTYPE=image/png:https://www.odonoghues.com.au/wp-content/uploads/2025/07/LANDSCAPE-1920-X-1080-Boxing.png
END:VEVENT
BEGIN:VEVENT
DTSTART;TZID=Australia/Sydney:20250719T200000
DTEND;TZID=Australia/Sydney:20250719T220000
DTSTAMP:20260423T195811
CREATED:20250701T014215Z
LAST-MODIFIED:20250701T014250Z
UID:10019972-1752955200-1752962400@www.odonoghues.com.au
SUMMARY:Lions Tour
DESCRIPTION:The Lions Tour is coming down under! \nO’Donoghues will be showing the 3 massive games between The Lion and The Wallabies. \nDates & Times \nSaturday July 19 at 8pm \nSaturday July 26 at 8pm \nSaturday August 2 at 8pm \n 
URL:https://www.odonoghues.com.au/event/2650/2025-07-19/
CATEGORIES:What's On
ATTACH;FMTTYPE=image/png:https://www.odonoghues.com.au/wp-content/uploads/2025/07/THE-LIONS-TOUR-WEBSITE-1.png
END:VEVENT
BEGIN:VEVENT
DTSTART;TZID=Australia/Sydney:20250719T091500
DTEND;TZID=Australia/Sydney:20250719T233000
DTSTAMP:20260423T195811
CREATED:20250715T013929Z
LAST-MODIFIED:20250715T013956Z
UID:10023629-1752916500-1752967800@www.odonoghues.com.au
SUMMARY:FLEETWOOD NICKS
DESCRIPTION:Fleetwood Nicks take the stage at ODs on Saturday 19th July from 9:15pm! \nA tribute performance to the legendary music of Fleetwood Mac & Stevie Nicks. \nFree entry\, good vibes guaranteed!
URL:https://www.odonoghues.com.au/event/fleetwood-nicks/2025-07-19/
CATEGORIES:Gig,What's On
ATTACH;FMTTYPE=image/png:https://www.odonoghues.com.au/wp-content/uploads/2025/07/FLEETWOOD-NICKS-OFFICIAL.png
END:VEVENT
END:VCALENDAR