BEGIN:VCALENDAR
VERSION:2.0
PRODID:-//O&#039;Donoghues | Pub &amp; Local Eatery - ECPv6.8.3//NONSGML v1.0//EN
CALSCALE:GREGORIAN
METHOD:PUBLISH
X-WR-CALNAME:O&#039;Donoghues | Pub &amp; Local Eatery
X-ORIGINAL-URL:https://www.odonoghues.com.au
X-WR-CALDESC:Events for O&#039;Donoghues | Pub &amp; Local Eatery
REFRESH-INTERVAL;VALUE=DURATION:PT1H
X-Robots-Tag:noindex
X-PUBLISHED-TTL:PT1H
BEGIN:VTIMEZONE
TZID:Australia/Sydney
BEGIN:STANDARD
TZOFFSETFROM:+1100
TZOFFSETTO:+1000
TZNAME:AEST
DTSTART:20260404T160000
END:STANDARD
BEGIN:DAYLIGHT
TZOFFSETFROM:+1000
TZOFFSETTO:+1100
TZNAME:AEDT
DTSTART:20261003T160000
END:DAYLIGHT
END:VTIMEZONE
BEGIN:VEVENT
DTSTART;VALUE=DATE:20260504
DTEND;VALUE=DATE:20260507
DTSTAMP:20260426T051155
CREATED:20260116T043839Z
LAST-MODIFIED:20260210T044720Z
UID:10030196-1777852800-1778111999@www.odonoghues.com.au
SUMMARY:Australia Day Long Weekend
DESCRIPTION:Celebrate the Australia Day long weekend at OD’s with $17 Pub Classics running all weekend.Saturday brings the Hottest 100\, a Pie Eating Competition and OD’s Country\, while Sunday features UFC 324 and kid’s entertainment.A huge weekend at your local.
URL:https://www.odonoghues.com.au/event/australia-day-long-weekend/2026-05-04/
ATTACH;FMTTYPE=image/png:https://www.odonoghues.com.au/wp-content/uploads/2026/01/Landscape_AusDay_ODs-1.png
END:VEVENT
BEGIN:VEVENT
DTSTART;VALUE=DATE:20260505
DTEND;VALUE=DATE:20260508
DTSTAMP:20260426T051155
CREATED:20260116T043839Z
LAST-MODIFIED:20260210T044720Z
UID:10030197-1777939200-1778198399@www.odonoghues.com.au
SUMMARY:Australia Day Long Weekend
DESCRIPTION:Celebrate the Australia Day long weekend at OD’s with $17 Pub Classics running all weekend.Saturday brings the Hottest 100\, a Pie Eating Competition and OD’s Country\, while Sunday features UFC 324 and kid’s entertainment.A huge weekend at your local.
URL:https://www.odonoghues.com.au/event/australia-day-long-weekend/2026-05-05/
ATTACH;FMTTYPE=image/png:https://www.odonoghues.com.au/wp-content/uploads/2026/01/Landscape_AusDay_ODs-1.png
END:VEVENT
BEGIN:VEVENT
DTSTART;VALUE=DATE:20260506
DTEND;VALUE=DATE:20260509
DTSTAMP:20260426T051155
CREATED:20260116T043839Z
LAST-MODIFIED:20260210T044720Z
UID:10030198-1778025600-1778284799@www.odonoghues.com.au
SUMMARY:Australia Day Long Weekend
DESCRIPTION:Celebrate the Australia Day long weekend at OD’s with $17 Pub Classics running all weekend.Saturday brings the Hottest 100\, a Pie Eating Competition and OD’s Country\, while Sunday features UFC 324 and kid’s entertainment.A huge weekend at your local.
URL:https://www.odonoghues.com.au/event/australia-day-long-weekend/2026-05-06/
ATTACH;FMTTYPE=image/png:https://www.odonoghues.com.au/wp-content/uploads/2026/01/Landscape_AusDay_ODs-1.png
END:VEVENT
BEGIN:VEVENT
DTSTART;VALUE=DATE:20260507
DTEND;VALUE=DATE:20260510
DTSTAMP:20260426T051155
CREATED:20260116T043839Z
LAST-MODIFIED:20260210T044720Z
UID:10030199-1778112000-1778371199@www.odonoghues.com.au
SUMMARY:Australia Day Long Weekend
DESCRIPTION:Celebrate the Australia Day long weekend at OD’s with $17 Pub Classics running all weekend.Saturday brings the Hottest 100\, a Pie Eating Competition and OD’s Country\, while Sunday features UFC 324 and kid’s entertainment.A huge weekend at your local.
URL:https://www.odonoghues.com.au/event/australia-day-long-weekend/2026-05-07/
ATTACH;FMTTYPE=image/png:https://www.odonoghues.com.au/wp-content/uploads/2026/01/Landscape_AusDay_ODs-1.png
END:VEVENT
BEGIN:VEVENT
DTSTART;VALUE=DATE:20260508
DTEND;VALUE=DATE:20260511
DTSTAMP:20260426T051155
CREATED:20260116T043839Z
LAST-MODIFIED:20260210T044720Z
UID:10030200-1778198400-1778457599@www.odonoghues.com.au
SUMMARY:Australia Day Long Weekend
DESCRIPTION:Celebrate the Australia Day long weekend at OD’s with $17 Pub Classics running all weekend.Saturday brings the Hottest 100\, a Pie Eating Competition and OD’s Country\, while Sunday features UFC 324 and kid’s entertainment.A huge weekend at your local.
URL:https://www.odonoghues.com.au/event/australia-day-long-weekend/2026-05-08/
ATTACH;FMTTYPE=image/png:https://www.odonoghues.com.au/wp-content/uploads/2026/01/Landscape_AusDay_ODs-1.png
END:VEVENT
BEGIN:VEVENT
DTSTART;VALUE=DATE:20260509
DTEND;VALUE=DATE:20260512
DTSTAMP:20260426T051155
CREATED:20260116T043839Z
LAST-MODIFIED:20260210T044720Z
UID:10030201-1778284800-1778543999@www.odonoghues.com.au
SUMMARY:Australia Day Long Weekend
DESCRIPTION:Celebrate the Australia Day long weekend at OD’s with $17 Pub Classics running all weekend.Saturday brings the Hottest 100\, a Pie Eating Competition and OD’s Country\, while Sunday features UFC 324 and kid’s entertainment.A huge weekend at your local.
URL:https://www.odonoghues.com.au/event/australia-day-long-weekend/2026-05-09/
ATTACH;FMTTYPE=image/png:https://www.odonoghues.com.au/wp-content/uploads/2026/01/Landscape_AusDay_ODs-1.png
END:VEVENT
BEGIN:VEVENT
DTSTART;VALUE=DATE:20260510
DTEND;VALUE=DATE:20260513
DTSTAMP:20260426T051155
CREATED:20260116T043839Z
LAST-MODIFIED:20260210T044720Z
UID:10030202-1778371200-1778630399@www.odonoghues.com.au
SUMMARY:Australia Day Long Weekend
DESCRIPTION:Celebrate the Australia Day long weekend at OD’s with $17 Pub Classics running all weekend.Saturday brings the Hottest 100\, a Pie Eating Competition and OD’s Country\, while Sunday features UFC 324 and kid’s entertainment.A huge weekend at your local.
URL:https://www.odonoghues.com.au/event/australia-day-long-weekend/2026-05-10/
ATTACH;FMTTYPE=image/png:https://www.odonoghues.com.au/wp-content/uploads/2026/01/Landscape_AusDay_ODs-1.png
END:VEVENT
BEGIN:VEVENT
DTSTART;VALUE=DATE:20260511
DTEND;VALUE=DATE:20260514
DTSTAMP:20260426T051155
CREATED:20260116T043839Z
LAST-MODIFIED:20260210T044720Z
UID:10030203-1778457600-1778716799@www.odonoghues.com.au
SUMMARY:Australia Day Long Weekend
DESCRIPTION:Celebrate the Australia Day long weekend at OD’s with $17 Pub Classics running all weekend.Saturday brings the Hottest 100\, a Pie Eating Competition and OD’s Country\, while Sunday features UFC 324 and kid’s entertainment.A huge weekend at your local.
URL:https://www.odonoghues.com.au/event/australia-day-long-weekend/2026-05-11/
ATTACH;FMTTYPE=image/png:https://www.odonoghues.com.au/wp-content/uploads/2026/01/Landscape_AusDay_ODs-1.png
END:VEVENT
BEGIN:VEVENT
DTSTART;VALUE=DATE:20260512
DTEND;VALUE=DATE:20260515
DTSTAMP:20260426T051155
CREATED:20260116T043839Z
LAST-MODIFIED:20260210T044720Z
UID:10030204-1778544000-1778803199@www.odonoghues.com.au
SUMMARY:Australia Day Long Weekend
DESCRIPTION:Celebrate the Australia Day long weekend at OD’s with $17 Pub Classics running all weekend.Saturday brings the Hottest 100\, a Pie Eating Competition and OD’s Country\, while Sunday features UFC 324 and kid’s entertainment.A huge weekend at your local.
URL:https://www.odonoghues.com.au/event/australia-day-long-weekend/2026-05-12/
ATTACH;FMTTYPE=image/png:https://www.odonoghues.com.au/wp-content/uploads/2026/01/Landscape_AusDay_ODs-1.png
END:VEVENT
BEGIN:VEVENT
DTSTART;VALUE=DATE:20260513
DTEND;VALUE=DATE:20260516
DTSTAMP:20260426T051155
CREATED:20260116T043839Z
LAST-MODIFIED:20260210T044720Z
UID:10030205-1778630400-1778889599@www.odonoghues.com.au
SUMMARY:Australia Day Long Weekend
DESCRIPTION:Celebrate the Australia Day long weekend at OD’s with $17 Pub Classics running all weekend.Saturday brings the Hottest 100\, a Pie Eating Competition and OD’s Country\, while Sunday features UFC 324 and kid’s entertainment.A huge weekend at your local.
URL:https://www.odonoghues.com.au/event/australia-day-long-weekend/2026-05-13/
ATTACH;FMTTYPE=image/png:https://www.odonoghues.com.au/wp-content/uploads/2026/01/Landscape_AusDay_ODs-1.png
END:VEVENT
BEGIN:VEVENT
DTSTART;VALUE=DATE:20260514
DTEND;VALUE=DATE:20260517
DTSTAMP:20260426T051155
CREATED:20260116T043839Z
LAST-MODIFIED:20260210T044720Z
UID:10030206-1778716800-1778975999@www.odonoghues.com.au
SUMMARY:Australia Day Long Weekend
DESCRIPTION:Celebrate the Australia Day long weekend at OD’s with $17 Pub Classics running all weekend.Saturday brings the Hottest 100\, a Pie Eating Competition and OD’s Country\, while Sunday features UFC 324 and kid’s entertainment.A huge weekend at your local.
URL:https://www.odonoghues.com.au/event/australia-day-long-weekend/2026-05-14/
ATTACH;FMTTYPE=image/png:https://www.odonoghues.com.au/wp-content/uploads/2026/01/Landscape_AusDay_ODs-1.png
END:VEVENT
BEGIN:VEVENT
DTSTART;VALUE=DATE:20260515
DTEND;VALUE=DATE:20260518
DTSTAMP:20260426T051155
CREATED:20260116T043839Z
LAST-MODIFIED:20260210T044720Z
UID:10030207-1778803200-1779062399@www.odonoghues.com.au
SUMMARY:Australia Day Long Weekend
DESCRIPTION:Celebrate the Australia Day long weekend at OD’s with $17 Pub Classics running all weekend.Saturday brings the Hottest 100\, a Pie Eating Competition and OD’s Country\, while Sunday features UFC 324 and kid’s entertainment.A huge weekend at your local.
URL:https://www.odonoghues.com.au/event/australia-day-long-weekend/2026-05-15/
ATTACH;FMTTYPE=image/png:https://www.odonoghues.com.au/wp-content/uploads/2026/01/Landscape_AusDay_ODs-1.png
END:VEVENT
BEGIN:VEVENT
DTSTART;VALUE=DATE:20260516
DTEND;VALUE=DATE:20260519
DTSTAMP:20260426T051155
CREATED:20260116T043839Z
LAST-MODIFIED:20260210T044720Z
UID:10030208-1778889600-1779148799@www.odonoghues.com.au
SUMMARY:Australia Day Long Weekend
DESCRIPTION:Celebrate the Australia Day long weekend at OD’s with $17 Pub Classics running all weekend.Saturday brings the Hottest 100\, a Pie Eating Competition and OD’s Country\, while Sunday features UFC 324 and kid’s entertainment.A huge weekend at your local.
URL:https://www.odonoghues.com.au/event/australia-day-long-weekend/2026-05-16/
ATTACH;FMTTYPE=image/png:https://www.odonoghues.com.au/wp-content/uploads/2026/01/Landscape_AusDay_ODs-1.png
END:VEVENT
BEGIN:VEVENT
DTSTART;VALUE=DATE:20260517
DTEND;VALUE=DATE:20260520
DTSTAMP:20260426T051155
CREATED:20260116T043839Z
LAST-MODIFIED:20260210T044720Z
UID:10030209-1778976000-1779235199@www.odonoghues.com.au
SUMMARY:Australia Day Long Weekend
DESCRIPTION:Celebrate the Australia Day long weekend at OD’s with $17 Pub Classics running all weekend.Saturday brings the Hottest 100\, a Pie Eating Competition and OD’s Country\, while Sunday features UFC 324 and kid’s entertainment.A huge weekend at your local.
URL:https://www.odonoghues.com.au/event/australia-day-long-weekend/2026-05-17/
ATTACH;FMTTYPE=image/png:https://www.odonoghues.com.au/wp-content/uploads/2026/01/Landscape_AusDay_ODs-1.png
END:VEVENT
BEGIN:VEVENT
DTSTART;VALUE=DATE:20260518
DTEND;VALUE=DATE:20260521
DTSTAMP:20260426T051155
CREATED:20260116T043839Z
LAST-MODIFIED:20260210T044720Z
UID:10030210-1779062400-1779321599@www.odonoghues.com.au
SUMMARY:Australia Day Long Weekend
DESCRIPTION:Celebrate the Australia Day long weekend at OD’s with $17 Pub Classics running all weekend.Saturday brings the Hottest 100\, a Pie Eating Competition and OD’s Country\, while Sunday features UFC 324 and kid’s entertainment.A huge weekend at your local.
URL:https://www.odonoghues.com.au/event/australia-day-long-weekend/2026-05-18/
ATTACH;FMTTYPE=image/png:https://www.odonoghues.com.au/wp-content/uploads/2026/01/Landscape_AusDay_ODs-1.png
END:VEVENT
BEGIN:VEVENT
DTSTART;VALUE=DATE:20260519
DTEND;VALUE=DATE:20260522
DTSTAMP:20260426T051155
CREATED:20260116T043839Z
LAST-MODIFIED:20260210T044720Z
UID:10030211-1779148800-1779407999@www.odonoghues.com.au
SUMMARY:Australia Day Long Weekend
DESCRIPTION:Celebrate the Australia Day long weekend at OD’s with $17 Pub Classics running all weekend.Saturday brings the Hottest 100\, a Pie Eating Competition and OD’s Country\, while Sunday features UFC 324 and kid’s entertainment.A huge weekend at your local.
URL:https://www.odonoghues.com.au/event/australia-day-long-weekend/2026-05-19/
ATTACH;FMTTYPE=image/png:https://www.odonoghues.com.au/wp-content/uploads/2026/01/Landscape_AusDay_ODs-1.png
END:VEVENT
BEGIN:VEVENT
DTSTART;VALUE=DATE:20260520
DTEND;VALUE=DATE:20260523
DTSTAMP:20260426T051155
CREATED:20260116T043839Z
LAST-MODIFIED:20260210T044720Z
UID:10030212-1779235200-1779494399@www.odonoghues.com.au
SUMMARY:Australia Day Long Weekend
DESCRIPTION:Celebrate the Australia Day long weekend at OD’s with $17 Pub Classics running all weekend.Saturday brings the Hottest 100\, a Pie Eating Competition and OD’s Country\, while Sunday features UFC 324 and kid’s entertainment.A huge weekend at your local.
URL:https://www.odonoghues.com.au/event/australia-day-long-weekend/2026-05-20/
ATTACH;FMTTYPE=image/png:https://www.odonoghues.com.au/wp-content/uploads/2026/01/Landscape_AusDay_ODs-1.png
END:VEVENT
BEGIN:VEVENT
DTSTART;VALUE=DATE:20260521
DTEND;VALUE=DATE:20260524
DTSTAMP:20260426T051155
CREATED:20260116T043839Z
LAST-MODIFIED:20260210T044720Z
UID:10030213-1779321600-1779580799@www.odonoghues.com.au
SUMMARY:Australia Day Long Weekend
DESCRIPTION:Celebrate the Australia Day long weekend at OD’s with $17 Pub Classics running all weekend.Saturday brings the Hottest 100\, a Pie Eating Competition and OD’s Country\, while Sunday features UFC 324 and kid’s entertainment.A huge weekend at your local.
URL:https://www.odonoghues.com.au/event/australia-day-long-weekend/2026-05-21/
ATTACH;FMTTYPE=image/png:https://www.odonoghues.com.au/wp-content/uploads/2026/01/Landscape_AusDay_ODs-1.png
END:VEVENT
BEGIN:VEVENT
DTSTART;VALUE=DATE:20260522
DTEND;VALUE=DATE:20260525
DTSTAMP:20260426T051155
CREATED:20260116T043839Z
LAST-MODIFIED:20260210T044720Z
UID:10030214-1779408000-1779667199@www.odonoghues.com.au
SUMMARY:Australia Day Long Weekend
DESCRIPTION:Celebrate the Australia Day long weekend at OD’s with $17 Pub Classics running all weekend.Saturday brings the Hottest 100\, a Pie Eating Competition and OD’s Country\, while Sunday features UFC 324 and kid’s entertainment.A huge weekend at your local.
URL:https://www.odonoghues.com.au/event/australia-day-long-weekend/2026-05-22/
ATTACH;FMTTYPE=image/png:https://www.odonoghues.com.au/wp-content/uploads/2026/01/Landscape_AusDay_ODs-1.png
END:VEVENT
BEGIN:VEVENT
DTSTART;VALUE=DATE:20260523
DTEND;VALUE=DATE:20260526
DTSTAMP:20260426T051155
CREATED:20260116T043839Z
LAST-MODIFIED:20260210T044720Z
UID:10030215-1779494400-1779753599@www.odonoghues.com.au
SUMMARY:Australia Day Long Weekend
DESCRIPTION:Celebrate the Australia Day long weekend at OD’s with $17 Pub Classics running all weekend.Saturday brings the Hottest 100\, a Pie Eating Competition and OD’s Country\, while Sunday features UFC 324 and kid’s entertainment.A huge weekend at your local.
URL:https://www.odonoghues.com.au/event/australia-day-long-weekend/2026-05-23/
ATTACH;FMTTYPE=image/png:https://www.odonoghues.com.au/wp-content/uploads/2026/01/Landscape_AusDay_ODs-1.png
END:VEVENT
BEGIN:VEVENT
DTSTART;VALUE=DATE:20260524
DTEND;VALUE=DATE:20260527
DTSTAMP:20260426T051156
CREATED:20260116T043839Z
LAST-MODIFIED:20260210T044720Z
UID:10030216-1779580800-1779839999@www.odonoghues.com.au
SUMMARY:Australia Day Long Weekend
DESCRIPTION:Celebrate the Australia Day long weekend at OD’s with $17 Pub Classics running all weekend.Saturday brings the Hottest 100\, a Pie Eating Competition and OD’s Country\, while Sunday features UFC 324 and kid’s entertainment.A huge weekend at your local.
URL:https://www.odonoghues.com.au/event/australia-day-long-weekend/2026-05-24/
ATTACH;FMTTYPE=image/png:https://www.odonoghues.com.au/wp-content/uploads/2026/01/Landscape_AusDay_ODs-1.png
END:VEVENT
BEGIN:VEVENT
DTSTART;VALUE=DATE:20260525
DTEND;VALUE=DATE:20260528
DTSTAMP:20260426T051156
CREATED:20260116T043839Z
LAST-MODIFIED:20260210T044720Z
UID:10030217-1779667200-1779926399@www.odonoghues.com.au
SUMMARY:Australia Day Long Weekend
DESCRIPTION:Celebrate the Australia Day long weekend at OD’s with $17 Pub Classics running all weekend.Saturday brings the Hottest 100\, a Pie Eating Competition and OD’s Country\, while Sunday features UFC 324 and kid’s entertainment.A huge weekend at your local.
URL:https://www.odonoghues.com.au/event/australia-day-long-weekend/2026-05-25/
ATTACH;FMTTYPE=image/png:https://www.odonoghues.com.au/wp-content/uploads/2026/01/Landscape_AusDay_ODs-1.png
END:VEVENT
BEGIN:VEVENT
DTSTART;VALUE=DATE:20260526
DTEND;VALUE=DATE:20260529
DTSTAMP:20260426T051156
CREATED:20260116T043839Z
LAST-MODIFIED:20260210T044720Z
UID:10030218-1779753600-1780012799@www.odonoghues.com.au
SUMMARY:Australia Day Long Weekend
DESCRIPTION:Celebrate the Australia Day long weekend at OD’s with $17 Pub Classics running all weekend.Saturday brings the Hottest 100\, a Pie Eating Competition and OD’s Country\, while Sunday features UFC 324 and kid’s entertainment.A huge weekend at your local.
URL:https://www.odonoghues.com.au/event/australia-day-long-weekend/2026-05-26/
ATTACH;FMTTYPE=image/png:https://www.odonoghues.com.au/wp-content/uploads/2026/01/Landscape_AusDay_ODs-1.png
END:VEVENT
BEGIN:VEVENT
DTSTART;VALUE=DATE:20260527
DTEND;VALUE=DATE:20260530
DTSTAMP:20260426T051156
CREATED:20260116T043839Z
LAST-MODIFIED:20260210T044720Z
UID:10030219-1779840000-1780099199@www.odonoghues.com.au
SUMMARY:Australia Day Long Weekend
DESCRIPTION:Celebrate the Australia Day long weekend at OD’s with $17 Pub Classics running all weekend.Saturday brings the Hottest 100\, a Pie Eating Competition and OD’s Country\, while Sunday features UFC 324 and kid’s entertainment.A huge weekend at your local.
URL:https://www.odonoghues.com.au/event/australia-day-long-weekend/2026-05-27/
ATTACH;FMTTYPE=image/png:https://www.odonoghues.com.au/wp-content/uploads/2026/01/Landscape_AusDay_ODs-1.png
END:VEVENT
BEGIN:VEVENT
DTSTART;VALUE=DATE:20260528
DTEND;VALUE=DATE:20260531
DTSTAMP:20260426T051156
CREATED:20260116T043839Z
LAST-MODIFIED:20260210T044720Z
UID:10030220-1779926400-1780185599@www.odonoghues.com.au
SUMMARY:Australia Day Long Weekend
DESCRIPTION:Celebrate the Australia Day long weekend at OD’s with $17 Pub Classics running all weekend.Saturday brings the Hottest 100\, a Pie Eating Competition and OD’s Country\, while Sunday features UFC 324 and kid’s entertainment.A huge weekend at your local.
URL:https://www.odonoghues.com.au/event/australia-day-long-weekend/2026-05-28/
ATTACH;FMTTYPE=image/png:https://www.odonoghues.com.au/wp-content/uploads/2026/01/Landscape_AusDay_ODs-1.png
END:VEVENT
BEGIN:VEVENT
DTSTART;VALUE=DATE:20260529
DTEND;VALUE=DATE:20260601
DTSTAMP:20260426T051156
CREATED:20260116T043839Z
LAST-MODIFIED:20260210T044720Z
UID:10030221-1780012800-1780271999@www.odonoghues.com.au
SUMMARY:Australia Day Long Weekend
DESCRIPTION:Celebrate the Australia Day long weekend at OD’s with $17 Pub Classics running all weekend.Saturday brings the Hottest 100\, a Pie Eating Competition and OD’s Country\, while Sunday features UFC 324 and kid’s entertainment.A huge weekend at your local.
URL:https://www.odonoghues.com.au/event/australia-day-long-weekend/2026-05-29/
ATTACH;FMTTYPE=image/png:https://www.odonoghues.com.au/wp-content/uploads/2026/01/Landscape_AusDay_ODs-1.png
END:VEVENT
BEGIN:VEVENT
DTSTART;VALUE=DATE:20260530
DTEND;VALUE=DATE:20260602
DTSTAMP:20260426T051156
CREATED:20260116T043839Z
LAST-MODIFIED:20260210T044720Z
UID:10030222-1780099200-1780358399@www.odonoghues.com.au
SUMMARY:Australia Day Long Weekend
DESCRIPTION:Celebrate the Australia Day long weekend at OD’s with $17 Pub Classics running all weekend.Saturday brings the Hottest 100\, a Pie Eating Competition and OD’s Country\, while Sunday features UFC 324 and kid’s entertainment.A huge weekend at your local.
URL:https://www.odonoghues.com.au/event/australia-day-long-weekend/2026-05-30/
ATTACH;FMTTYPE=image/png:https://www.odonoghues.com.au/wp-content/uploads/2026/01/Landscape_AusDay_ODs-1.png
END:VEVENT
BEGIN:VEVENT
DTSTART;VALUE=DATE:20260531
DTEND;VALUE=DATE:20260603
DTSTAMP:20260426T051156
CREATED:20260116T043839Z
LAST-MODIFIED:20260210T044720Z
UID:10030223-1780185600-1780444799@www.odonoghues.com.au
SUMMARY:Australia Day Long Weekend
DESCRIPTION:Celebrate the Australia Day long weekend at OD’s with $17 Pub Classics running all weekend.Saturday brings the Hottest 100\, a Pie Eating Competition and OD’s Country\, while Sunday features UFC 324 and kid’s entertainment.A huge weekend at your local.
URL:https://www.odonoghues.com.au/event/australia-day-long-weekend/2026-05-31/
ATTACH;FMTTYPE=image/png:https://www.odonoghues.com.au/wp-content/uploads/2026/01/Landscape_AusDay_ODs-1.png
END:VEVENT
BEGIN:VEVENT
DTSTART;VALUE=DATE:20260601
DTEND;VALUE=DATE:20260604
DTSTAMP:20260426T051156
CREATED:20260116T043839Z
LAST-MODIFIED:20260210T044720Z
UID:10030224-1780272000-1780531199@www.odonoghues.com.au
SUMMARY:Australia Day Long Weekend
DESCRIPTION:Celebrate the Australia Day long weekend at OD’s with $17 Pub Classics running all weekend.Saturday brings the Hottest 100\, a Pie Eating Competition and OD’s Country\, while Sunday features UFC 324 and kid’s entertainment.A huge weekend at your local.
URL:https://www.odonoghues.com.au/event/australia-day-long-weekend/2026-06-01/
ATTACH;FMTTYPE=image/png:https://www.odonoghues.com.au/wp-content/uploads/2026/01/Landscape_AusDay_ODs-1.png
END:VEVENT
BEGIN:VEVENT
DTSTART;VALUE=DATE:20260602
DTEND;VALUE=DATE:20260605
DTSTAMP:20260426T051156
CREATED:20260116T043839Z
LAST-MODIFIED:20260210T044720Z
UID:10030225-1780358400-1780617599@www.odonoghues.com.au
SUMMARY:Australia Day Long Weekend
DESCRIPTION:Celebrate the Australia Day long weekend at OD’s with $17 Pub Classics running all weekend.Saturday brings the Hottest 100\, a Pie Eating Competition and OD’s Country\, while Sunday features UFC 324 and kid’s entertainment.A huge weekend at your local.
URL:https://www.odonoghues.com.au/event/australia-day-long-weekend/2026-06-02/
ATTACH;FMTTYPE=image/png:https://www.odonoghues.com.au/wp-content/uploads/2026/01/Landscape_AusDay_ODs-1.png
END:VEVENT
END:VCALENDAR